BEGIN:VCALENDAR
VERSION:2.0
PRODID:-//Plone.org//NONSGML plone.app.event//EN
X-WR-TIMEZONE:US/Eastern
BEGIN:VEVENT
SUMMARY:Winter Cup Decorating Craft
DTSTART;TZID=US/Eastern:20231218T160000
DTEND;TZID=US/Eastern:20231218T180000
DTSTAMP:20260421T100031Z
UID:a0a13a36c3b741baa054dec45af6d006@saas_stack_varnish:6080
CREATED:20231121T190700Z
LAST-MODIFIED:20231121T193149Z
URL:https://www.bathtownshippubliclibrary.org/library-calendar-2/winter-cu
 p-decorating
END:VEVENT
BEGIN:VTIMEZONE
TZID:US/Eastern
X-LIC-LOCATION:US/Eastern
BEGIN:STANDARD
DTSTART:20231105T010000
TZNAME:EST
TZOFFSETFROM:-0400
TZOFFSETTO:-0500
END:STANDARD
END:VTIMEZONE
END:VCALENDAR
