BEGIN:VCALENDAR
VERSION:2.0
PRODID:-//Plone.org//NONSGML plone.app.event//EN
X-WR-TIMEZONE:US/Eastern
BEGIN:VEVENT
SUMMARY:Silent Book Club
DTSTART;TZID=US/Eastern:20260714T160000
DTEND;TZID=US/Eastern:20260714T173000
DTSTAMP:20260420T033603Z
UID:b6c0b60f93f148f4989d3ccb8366f72a@saas_stack_varnish:6080
CONTACT:Joana\, 517-641-7111\, jbancroft@bathtownshippubliclibrary.org
CREATED:20260127T153341Z
DESCRIPTION:Spend an hour enjoying your own book\, followed by an open dis
 cussion about your book. \nMeetings: 2nd Tuesday of each month
LAST-MODIFIED:20260127T165518Z
LOCATION:Bath Township Public Library
URL:https://www.bathtownshippubliclibrary.org/library-calendar-2/silent-bo
 ok-club/2026-07-14
END:VEVENT
BEGIN:VTIMEZONE
TZID:US/Eastern
X-LIC-LOCATION:US/Eastern
BEGIN:DAYLIGHT
DTSTART:20260308T030000
TZNAME:EDT
TZOFFSETFROM:-0500
TZOFFSETTO:-0400
END:DAYLIGHT
END:VTIMEZONE
END:VCALENDAR
