BEGIN:VCALENDAR
VERSION:2.0
PRODID:-//Plone.org//NONSGML plone.app.event//EN
X-WR-TIMEZONE:US/Eastern
BEGIN:VEVENT
SUMMARY:Safe Routes to School
DTSTART;TZID=US/Eastern:20211215T180000
DTEND;TZID=US/Eastern:20211215T193000
DTSTAMP:20260424T094813Z
UID:b5ee487948694c0db8affd5c7a9454ac@saas_stack_varnish:6080
CONTACT:Chris Hagerman\, 5176417111\, info@bathtownshippubliclibrary.org\,
  https://www.facebook.com/groups/Bathtownshipnewsevents/permalink/46351866
 99928858/
CREATED:20211214T235336Z
DESCRIPTION:Public Reveal of Proposal
LAST-MODIFIED:20211214T235345Z
LOCATION:Bath Township Public Library
URL:https://www.bathtownshippubliclibrary.org/library-calendar-2/safe-rout
 es-to-school
END:VEVENT
BEGIN:VTIMEZONE
TZID:US/Eastern
X-LIC-LOCATION:US/Eastern
BEGIN:STANDARD
DTSTART:20211107T010000
TZNAME:EST
TZOFFSETFROM:-0400
TZOFFSETTO:-0500
END:STANDARD
END:VTIMEZONE
END:VCALENDAR
