BEGIN:VCALENDAR
VERSION:2.0
PRODID:-//Plone.org//NONSGML plone.app.event//EN
X-WR-TIMEZONE:US/Eastern
BEGIN:VEVENT
SUMMARY:Reading is Groovy Kick Off Party
DTSTART;TZID=US/Eastern:20230610T100000
DTEND;TZID=US/Eastern:20230610T140000
DTSTAMP:20260419T134027Z
UID:aace6052de9442df82b28915994f7cfd@saas_stack_varnish:6080
CONTACT:BathTownship Public Library\, 5176417111\, info@bathtownshippublic
 library.org
CREATED:20230510T232319Z
DESCRIPTION:Bouncy House* Fire Trucks * \nGames * Activities * Bike Rodeo\
 nPete the Cat * And More in the library and in the parking lot!
LAST-MODIFIED:20230510T232325Z
LOCATION:Bath Township Public Library
URL:https://www.bathtownshippubliclibrary.org/library-calendar-2/reading-i
 s-groovy-kick-off-party
END:VEVENT
BEGIN:VTIMEZONE
TZID:US/Eastern
X-LIC-LOCATION:US/Eastern
BEGIN:DAYLIGHT
DTSTART:20230312T030000
TZNAME:EDT
TZOFFSETFROM:-0500
TZOFFSETTO:-0400
END:DAYLIGHT
END:VTIMEZONE
END:VCALENDAR
