BEGIN:VCALENDAR
VERSION:2.0
PRODID:-//Plone.org//NONSGML plone.app.event//EN
X-WR-TIMEZONE:US/Eastern
BEGIN:VEVENT
SUMMARY:Gardening on a Budget
DTSTART;TZID=US/Eastern:20250422T180000
DTEND;TZID=US/Eastern:20250422T190000
DTSTAMP:20260420T173432Z
UID:cf21e57a39484d74b1ce4dca1b21e85c@saas_stack_varnish:6080
CATEGORIES:Gardening
CONTACT:Joana\, jbancroft@bathtownshippubliclibrary.org
CREATED:20250318T200557Z
DESCRIPTION:Join the Garden Project at the Bath Township Public Library fo
 r a free workshop covering gardening basics on any budget.
LAST-MODIFIED:20250412T141844Z
URL:https://www.bathtownshippubliclibrary.org/library-calendar-2/gardening
 -on-a-budget
END:VEVENT
BEGIN:VTIMEZONE
TZID:US/Eastern
X-LIC-LOCATION:US/Eastern
BEGIN:DAYLIGHT
DTSTART:20250309T030000
TZNAME:EDT
TZOFFSETFROM:-0500
TZOFFSETTO:-0400
END:DAYLIGHT
END:VTIMEZONE
END:VCALENDAR
