BEGIN:VCALENDAR
VERSION:2.0
PRODID:-//Plone.org//NONSGML plone.app.event//EN
X-WR-TIMEZONE:US/Eastern
BEGIN:VEVENT
SUMMARY:Freadom Book Club
DTSTART;TZID=US/Eastern:20230902T110000
DTEND;TZID=US/Eastern:20230902T120000
DTSTAMP:20260424T104102Z
UID:3f76dba006a745d4a45cdc05c8c5f5a8@saas_stack_varnish:6080
CONTACT:Kasey\, 517-641-7111\, info@bathtownshippubliclibrary.org
CREATED:20230824T152257Z
DESCRIPTION:Maus\nWe will be opening the library for one hours to have Fre
 edom Book Club.
LAST-MODIFIED:20230824T152405Z
LOCATION:Bath Township Public Library
URL:https://www.bathtownshippubliclibrary.org/library-calendar-2/freadom-b
 ook-club-1
END:VEVENT
BEGIN:VTIMEZONE
TZID:US/Eastern
X-LIC-LOCATION:US/Eastern
BEGIN:DAYLIGHT
DTSTART:20230312T030000
TZNAME:EDT
TZOFFSETFROM:-0500
TZOFFSETTO:-0400
END:DAYLIGHT
END:VTIMEZONE
END:VCALENDAR
