BEGIN:VCALENDAR
VERSION:2.0
PRODID:-//Plone.org//NONSGML plone.app.event//EN
X-WR-TIMEZONE:US/Eastern
BEGIN:VEVENT
SUMMARY:Euchre Tournament
DTSTART;TZID=US/Eastern:20230712T170000
DTEND;TZID=US/Eastern:20230712T190000
DTSTAMP:20260419T121551Z
UID:507b283172c443cdaae623011da746e7@saas_stack_varnish:6080
CONTACT:Joana\, 517-641-7111\, info@bathtownshippubliclibrary.org
CREATED:20230512T173013Z
DESCRIPTION:Come to the library and play Michigan’s\nfavorite card game!
 \nPrize and Bragging Rights for the winning pair!\n\n*Call 641-7111 or ema
 il info@bathtownshippubliclibrary.org to register
LAST-MODIFIED:20230608T211541Z
LOCATION:Bath Township Public Library
URL:https://www.bathtownshippubliclibrary.org/library-calendar-2/euchre-to
 urnament
END:VEVENT
BEGIN:VTIMEZONE
TZID:US/Eastern
X-LIC-LOCATION:US/Eastern
BEGIN:DAYLIGHT
DTSTART:20230312T030000
TZNAME:EDT
TZOFFSETFROM:-0500
TZOFFSETTO:-0400
END:DAYLIGHT
END:VTIMEZONE
END:VCALENDAR
