BEGIN:VCALENDAR
VERSION:2.0
PRODID:-//Plone.org//NONSGML plone.app.event//EN
X-WR-TIMEZONE:US/Eastern
BEGIN:VEVENT
SUMMARY:Cozy Corner Storytime
DTSTART;TZID=US/Eastern:20260420T173000
DTEND;TZID=US/Eastern:20260420T190000
DTSTAMP:20260420T011521Z
UID:9bfc4819b8044e2a83def436f12dbc3e@saas_stack_varnish:6080
RRULE:FREQ=WEEKLY;UNTIL=20270104T000000;BYDAY=MO
EXDATE;TZID=US/Eastern:20260112T000000,20260119T000000,20260209T000000,202
 60216T000000,20260309T000000,20260413T000000,20260525T000000,20260608T0000
 00,20260713T000000,20260810T000000,20260914T000000,20261012T000000,2026110
 9T000000,20261214T000000
CREATED:20251230T163747Z
DESCRIPTION:Sensory-friendly storytime open to all ages and abilities.
LAST-MODIFIED:20260109T221753Z
URL:https://www.bathtownshippubliclibrary.org/library-calendar-2/cozy-corn
 er-storytime
END:VEVENT
BEGIN:VTIMEZONE
TZID:US/Eastern
X-LIC-LOCATION:US/Eastern
BEGIN:DAYLIGHT
DTSTART:20260308T030000
TZNAME:EDT
TZOFFSETFROM:-0500
TZOFFSETTO:-0400
END:DAYLIGHT
END:VTIMEZONE
END:VCALENDAR
