BEGIN:VCALENDAR
VERSION:2.0
PRODID:-//Plone.org//NONSGML plone.app.event//EN
X-WR-TIMEZONE:US/Eastern
BEGIN:VEVENT
SUMMARY:Community Garden Planning Meeting
DTSTART;TZID=US/Eastern:20250315T160000
DTSTAMP:20260420T173231Z
UID:ea65813d6ee34bb98cf9f43f830da2ec@saas_stack_varnish:6080
CATEGORIES:Gardening
CONTACT:Joana\, jbancroft@bathtownshippubliclibrary.org
CREATED:20250224T182732Z
DESCRIPTION:Join us for a meeting to explore how you can volunteer and hel
 p the garden flourish in Bath.
LAST-MODIFIED:20250412T141937Z
LOCATION:White Bros Music
URL:https://www.bathtownshippubliclibrary.org/library-calendar-2/community
 -garden-planning-meeting
END:VEVENT
BEGIN:VTIMEZONE
TZID:US/Eastern
X-LIC-LOCATION:US/Eastern
BEGIN:DAYLIGHT
DTSTART:20250309T030000
TZNAME:EDT
TZOFFSETFROM:-0500
TZOFFSETTO:-0400
END:DAYLIGHT
END:VTIMEZONE
END:VCALENDAR
