BEGIN:VCALENDAR
VERSION:2.0
PRODID:-//Plone.org//NONSGML plone.app.event//EN
X-WR-TIMEZONE:US/Eastern
BEGIN:VEVENT
SUMMARY:Community Garden Party
DTSTART;TZID=US/Eastern:20230531T143000
DTSTAMP:20260419T135313Z
UID:de5bd34fb1954e3aa79c47eb575deb29@saas_stack_varnish:6080
CONTACT:Joana\, 517-641-7111\, info@bathtownshippubliclibrary.org
CREATED:20230426T204117Z
DESCRIPTION:Meet us at the Community Garden on Main Street in Bath to plan
 t our garden for the summer. \nPizza and drinks will be provided for all g
 reen thumbed volunteers
LAST-MODIFIED:20230426T204344Z
LOCATION:Bath Community Garden\, at the NW corner of Main St. and High St.
URL:https://www.bathtownshippubliclibrary.org/library-calendar-2/community
 -garden-party
END:VEVENT
BEGIN:VTIMEZONE
TZID:US/Eastern
X-LIC-LOCATION:US/Eastern
BEGIN:DAYLIGHT
DTSTART:20230312T030000
TZNAME:EDT
TZOFFSETFROM:-0500
TZOFFSETTO:-0400
END:DAYLIGHT
END:VTIMEZONE
END:VCALENDAR
