BEGIN:VCALENDAR
VERSION:2.0
PRODID:-//Plone.org//NONSGML plone.app.event//EN
X-WR-TIMEZONE:US/Eastern
BEGIN:VEVENT
SUMMARY:Closed for Memorial Day
DTSTART;VALUE=DATE:20260523
DTEND;VALUE=DATE:20260526
DTSTAMP:20260424T025110Z
UID:b15f9c5dd43546a3944e64d5c4b7ad89@saas_stack_varnish:6080
RRULE:FREQ=YEARLY;COUNT=7;BYDAY=+4SA;BYMONTH=5
CREATED:20211116T225419Z
LAST-MODIFIED:20220523T162842Z
URL:https://www.bathtownshippubliclibrary.org/library-calendar-2/closed-fo
 r-memorial-day
END:VEVENT
END:VCALENDAR
