BEGIN:VCALENDAR
VERSION:2.0
PRODID:-//Plone.org//NONSGML plone.app.event//EN
X-WR-TIMEZONE:US/Eastern
BEGIN:VEVENT
SUMMARY:Closed for Labor Day Weekend
DTSTART;VALUE=DATE:20260905
DTEND;VALUE=DATE:20260908
DTSTAMP:20260420T111947Z
UID:d3c868d7e6ec439c973941010005bcbf@saas_stack_varnish:6080
RRULE:FREQ=YEARLY;COUNT=7;BYDAY=+1SA;BYMONTH=9
RDATE;TZID=US/Eastern:20240831T000000,20250830T000000
EXDATE;TZID=US/Eastern:20240907T000000,20250906T000000
CREATED:20211116T235107Z
LAST-MODIFIED:20240725T182952Z
URL:https://www.bathtownshippubliclibrary.org/library-calendar-2/closed-fo
 r-labor-day-weekend
END:VEVENT
END:VCALENDAR
