BEGIN:VCALENDAR
VERSION:2.0
PRODID:-//Plone.org//NONSGML plone.app.event//EN
X-WR-TIMEZONE:US/Eastern
BEGIN:VEVENT
SUMMARY:Teen Candy Sushi Party
DTSTART;TZID=US/Eastern:20250916T150000
DTEND;TZID=US/Eastern:20250916T170000
DTSTAMP:20260422T095438Z
UID:0e55f678c77a4b1d8e9c37180a8073f8@saas_stack_varnish:6080
CREATED:20250814T222337Z
DESCRIPTION:Making candy sushi\, origami folding\, playing Sushi Go!\,\nan
 d watching anime! Teen Event
LAST-MODIFIED:20250827T161039Z
URL:https://www.bathtownshippubliclibrary.org/library-calendar-2/candy-sus
 hi-party
END:VEVENT
BEGIN:VTIMEZONE
TZID:US/Eastern
X-LIC-LOCATION:US/Eastern
BEGIN:DAYLIGHT
DTSTART:20250309T030000
TZNAME:EDT
TZOFFSETFROM:-0500
TZOFFSETTO:-0400
END:DAYLIGHT
END:VTIMEZONE
END:VCALENDAR
