BEGIN:VCALENDAR
VERSION:2.0
PRODID:-//Plone.org//NONSGML plone.app.event//EN
X-WR-TIMEZONE:US/Eastern
BEGIN:VEVENT
SUMMARY:Buzzing Through 1000 Books Before Kindergarten Party
DTSTART;TZID=US/Eastern:20250927T100000
DTEND;TZID=US/Eastern:20250927T110000
DTSTAMP:20260420T095834Z
UID:9839a61fd8844522a528ec0218cd3797@saas_stack_varnish:6080
CREATED:20250827T170811Z
DESCRIPTION:Celebrate Buzzing Through 1000 Books Before Kindergarten Progr
 am. Bee-themed stories\, activities\, treats\, and prizes!
LAST-MODIFIED:20250827T171013Z
URL:https://www.bathtownshippubliclibrary.org/library-calendar-2/buzzing-t
 hrough-1000-books-before-kindergarten-party
END:VEVENT
BEGIN:VTIMEZONE
TZID:US/Eastern
X-LIC-LOCATION:US/Eastern
BEGIN:DAYLIGHT
DTSTART:20250309T030000
TZNAME:EDT
TZOFFSETFROM:-0500
TZOFFSETTO:-0400
END:DAYLIGHT
END:VTIMEZONE
END:VCALENDAR
