BEGIN:VCALENDAR
VERSION:2.0
PRODID:-//Plone.org//NONSGML plone.app.event//EN
X-WR-TIMEZONE:US/Eastern
BEGIN:VEVENT
SUMMARY:Baby Rave
DTSTART;TZID=US/Eastern:20260530T100000
DTEND;TZID=US/Eastern:20260530T120000
DTSTAMP:20260421T120707Z
UID:991e7f0d51e74380a1b7a9dabfb517b7@saas_stack_varnish:6080
CREATED:20260420T141021Z
DESCRIPTION:Baby Rave. Music\, lights\, Dancing\, & Fun for children 5 and
  under!
LAST-MODIFIED:20260420T141128Z
URL:https://www.bathtownshippubliclibrary.org/library-calendar-2/baby-rave
END:VEVENT
BEGIN:VTIMEZONE
TZID:US/Eastern
X-LIC-LOCATION:US/Eastern
BEGIN:DAYLIGHT
DTSTART:20260308T030000
TZNAME:EDT
TZOFFSETFROM:-0500
TZOFFSETTO:-0400
END:DAYLIGHT
END:VTIMEZONE
END:VCALENDAR
