BEGIN:VCALENDAR
VERSION:2.0
PRODID:-//Plone.org//NONSGML plone.app.event//EN
X-WR-TIMEZONE:US/Eastern
BEGIN:VEVENT
SUMMARY:Adult & Pediatric First Aid/ CPR/ AED Class
DTSTART;TZID=US/Eastern:20240912T120000
DTEND;TZID=US/Eastern:20240912T160000
DTSTAMP:20260422T094311Z
UID:7c6a3f1dd0fa41f8b82aa444c09a8ff5@saas_stack_varnish:6080
CONTACT:Joana Nayeli Castanon Bancroft\, 5176417111\, jbancroft@bathtownsh
 ippubliclibrary.org
CREATED:20240829T205133Z
DESCRIPTION:Looking for CPR? Caring and Sharing Family Life Services have 
 you covered! We will be hosting FREE First Aid/CPR/AED training in Bath th
 is Fall!
LAST-MODIFIED:20240829T211708Z
LOCATION:Bath Township Public Library
URL:https://www.bathtownshippubliclibrary.org/library-calendar-2/adult-ped
 iatric-first-aid-cpr-aed-class
END:VEVENT
BEGIN:VTIMEZONE
TZID:US/Eastern
X-LIC-LOCATION:US/Eastern
BEGIN:DAYLIGHT
DTSTART:20240310T030000
TZNAME:EDT
TZOFFSETFROM:-0500
TZOFFSETTO:-0400
END:DAYLIGHT
END:VTIMEZONE
END:VCALENDAR
