BEGIN:VCALENDAR
VERSION:2.0
PRODID:-//Plone.org//NONSGML plone.app.event//EN
X-WR-TIMEZONE:US/Eastern
BEGIN:VEVENT
SUMMARY:Wine & Cheese Book Club - April/May
DTSTART;TZID=US/Eastern:20260527T173000
DTEND;TZID=US/Eastern:20260527T190000
DTSTAMP:20260424T012921Z
UID:6b6ee264de714815b059dea7f84a8e66@saas_stack_varnish:6080
CREATED:20260423T203029Z
DESCRIPTION:Join us in reading Things We Never Got Over by Lucy Score for 
 this month's wine and cheese book club.
LAST-MODIFIED:20260423T203212Z
URL:https://www.bathtownshippubliclibrary.org/adults/wine-cheese-book-club
 /wine-cheese-book-club-april-may
END:VEVENT
BEGIN:VTIMEZONE
TZID:US/Eastern
X-LIC-LOCATION:US/Eastern
BEGIN:DAYLIGHT
DTSTART:20260308T030000
TZNAME:EDT
TZOFFSETFROM:-0500
TZOFFSETTO:-0400
END:DAYLIGHT
END:VTIMEZONE
END:VCALENDAR
